BEGIN:VCALENDAR
VERSION:2.0
PRODID:-//Spirit of Plants - ECPv6.15.17//NONSGML v1.0//EN
CALSCALE:GREGORIAN
METHOD:PUBLISH
X-ORIGINAL-URL:https://spiritofplants.de
X-WR-CALDESC:Veranstaltungen für Spirit of Plants
REFRESH-INTERVAL;VALUE=DURATION:PT1H
X-Robots-Tag:noindex
X-PUBLISHED-TTL:PT1H
BEGIN:VTIMEZONE
TZID:Europe/Helsinki
BEGIN:DAYLIGHT
TZOFFSETFROM:+0200
TZOFFSETTO:+0300
TZNAME:EEST
DTSTART:20240331T010000
END:DAYLIGHT
BEGIN:STANDARD
TZOFFSETFROM:+0300
TZOFFSETTO:+0200
TZNAME:EET
DTSTART:20241027T010000
END:STANDARD
BEGIN:DAYLIGHT
TZOFFSETFROM:+0200
TZOFFSETTO:+0300
TZNAME:EEST
DTSTART:20250330T010000
END:DAYLIGHT
BEGIN:STANDARD
TZOFFSETFROM:+0300
TZOFFSETTO:+0200
TZNAME:EET
DTSTART:20251026T010000
END:STANDARD
BEGIN:DAYLIGHT
TZOFFSETFROM:+0200
TZOFFSETTO:+0300
TZNAME:EEST
DTSTART:20260329T010000
END:DAYLIGHT
BEGIN:STANDARD
TZOFFSETFROM:+0300
TZOFFSETTO:+0200
TZNAME:EET
DTSTART:20261025T010000
END:STANDARD
END:VTIMEZONE
BEGIN:VEVENT
DTSTART;TZID=Europe/Helsinki:20251114T140000
DTEND;TZID=Europe/Helsinki:20251114T163000
DTSTAMP:20260425T161204
CREATED:20230113T162556Z
LAST-MODIFIED:20251014T084411Z
UID:4301-1763128800-1763137800@spiritofplants.de
SUMMARY:Räuchern in den Rauhnächten - die heiligen Nächte mit Düften begleiten
DESCRIPTION:Die Raunächte gelten seit jeher als magische Zeit zwischen den Jahren. Altes wird abgeschlossen und Neues geplant. \nEine Zeit der Innenschau\, die traditionell mit Räucherungen begleitet wird. \nIn diesem Kurs dreht sich alles um die besondere Qualität dieser Tage. Über das Erstellen persönlicher Räuchermischungen erspüren wir unsere ureigenen Themen und erschaffen gleichzeitig passende Düfte für diese heilige Zeit. \nEs stehen viele ausgewählte Räucherstoffe dafür zur Verfügung \nBitte mitbringen: \n\neine Müslischüssel zum Mischen der Stoffe\nSchreibzeug\nFalls vorhanden: eigener Granitmörser\n\nMaterialkosten:  5\,00 € \nAnmeldung über Fa. Gaißmayer\,  \nVeranstaltungen auf der Jungviehweide in Illertissen \n 
URL:https://spiritofplants.de/event/raeuchern-in-den-rauhnaechten-die-heiligen-naechte-mit-dueften-begleiten-2/
LOCATION:Museum für Gartenkultur\, Jungviehweide\, Illertissen\, 89257\, Deutschland
ATTACH;FMTTYPE=image/jpeg:https://spiritofplants.de/wp-content/uploads/2020/06/sun-and-moon-4918858_1920.jpg
END:VEVENT
END:VCALENDAR